BEGIN:VCALENDAR
VERSION:2.0
PRODID:-//eventon.com NONSGML v1.0//EN
CALSCALE:GREGORIAN
METHOD:PUBLISH
BEGIN:VEVENT
UID:69e7304f8cb65
DTSTAMP:20260421T080743Z
DTSTART:20261022T170000Z
DTEND:20261022T215900Z
LOCATION:Lost Level Kyffhäuserstraße 39\,  50674 Köln
SUMMARY:Riftbound: Nexus Night
DESCRIPTION:Ihr mögt League of Legends? Ihr wollt auch endlich mal ein Tra
 ding Card Game spielen? Bei Riftbound könnt ihr beides kombinieren denn Ri
 ot Games bringt sein erstes TCG heraus &#8211; und das im LoL Universum! Je
 de Woche könnt ihr hier gegen andere Spieler antreten und dabei vielleicht
  ein paar Preise[..]\nhttps://lostlevel.bar/events/riftbound-nexus-night/va
 r/ri-28.l-L1
URL:https://lostlevel.bar/events/riftbound-nexus-night/var/ri-28.l-L1
END:VEVENT
END:VCALENDAR