BEGIN:VCALENDAR
VERSION:2.0
PRODID:-//eventon.com NONSGML v1.0//EN
CALSCALE:GREGORIAN
METHOD:PUBLISH
BEGIN:VEVENT
UID:69e4d7dda09cc
DTSTAMP:20260419T132549Z
DTSTART:20251203T180000Z
DTEND:20251203T225900Z
LOCATION:Lost Level Kyffhäuserstraße 39\,  50674 Köln
SUMMARY:Pen & Paper Abend
DESCRIPTION:Fantasy\,  Weltraum oder Ödland &#8211; beim Pen &amp; Paper A
 bend könnt ihr in fremde Welten abtauchen. Entfliehe dem Alltag und sei ei
 nen Abend lang jemand anders!Die Vorstellung der Runde beginnt eine halbe S
 tunde nachdem wir öffnen. Danach wird auch direkt in die Runden eingeteilt
  und angefangen also seid pünktlich!\nhttps://lostlevel.bar/events/pen-pap
 er-abend-43/
URL:https://lostlevel.bar/events/pen-paper-abend-43/
END:VEVENT
END:VCALENDAR