BEGIN:VCALENDAR
VERSION:2.0
PRODID:-//eventon.com NONSGML v1.0//EN
CALSCALE:GREGORIAN
METHOD:PUBLISH
BEGIN:VEVENT
UID:69eb42c5e690c
DTSTAMP:20260424T101533Z
DTSTART:20250208T110000Z
DTEND:20250208T225000Z
LOCATION:Lost Level Kyffhäuserstraße 39\,  50674 Köln
SUMMARY:ATEEZ CONCERT EVENT
DESCRIPTION:Zusammen in Kooperation mit kcupsleeves.cologne laden wir euch 
 am 08. Februar zu unserem Ateez Concert Event ein. Stimmt euch zusammen auf
  das anstehende Ateez Konzert ein! Wir haben einige Aktivitäten für euch 
 geplant. Unter Anderem:&#8211; Special Drinks &amp; Ramen&#8211; Photocards
  Trading Corner&#8211; Freebies&#8211; Dekoration für Fotos &amp; Selfies&
 #8211; Random Dance&#8211;[..]\nhttps://lostlevel.bar/events/ateez-concert-
 event/
URL:https://lostlevel.bar/events/ateez-concert-event/
END:VEVENT
END:VCALENDAR