BEGIN:VCALENDAR
VERSION:2.0
PRODID:-//eventon.com NONSGML v1.0//EN
CALSCALE:GREGORIAN
METHOD:PUBLISH
BEGIN:VEVENT
UID:69e72dc24017f
DTSTAMP:20260421T075650Z
DTSTART:20240627T170000Z
DTEND:20240627T215000Z
LOCATION:Lost Level Kyffhäuserstraße 39\,  50674 Köln
SUMMARY:ECO Stammtisch - der Kölner eSports Stammtisch
DESCRIPTION:Der ECO Stammtisch ist DER Kölner eSports Stammtisch. Seit üb
 er zwei Jahren findet er monatlich\,  meist am letzten Donnerstag\,  statt.
 Hier treffen sich einige der 300 Mitglieder des eSports Cologne e.V.\,  ein
 em in Köln ansässigen eSports Verein.ECO organisiert lokale Events in ver
 schiedenen Locations\,  vernetzt sich online auf dem gemeinsamen Discord-Se
 rver\,  streamt[..]\nhttps://lostlevel.bar/events/eco-stammtisch-der-koelne
 r-esports-stammtisch-18/
URL:https://lostlevel.bar/events/eco-stammtisch-der-koelner-esports-stammtisch-18/
END:VEVENT
END:VCALENDAR