BEGIN:VCALENDAR
VERSION:2.0
PRODID:-//eventon.com NONSGML v1.0//EN
CALSCALE:GREGORIAN
METHOD:PUBLISH
BEGIN:VEVENT
UID:69eaedc867a51
DTSTAMP:20260424T041256Z
DTSTART:20231231T180000Z
DTEND:20231231T225000Z
LOCATION:Lost Level Kyffhäuserstraße 39\,  50674 Köln
SUMMARY:Silvester Party
DESCRIPTION:Glaubt es oder glaubt es nicht\,  aber das Lost öffnet dieses 
 Jahr auch an Silvester!Kommt vorbei und feiert gemeinsam mit uns ins neue J
 ahr!\nhttps://lostlevel.bar/events/silvester-party-2/
URL:https://lostlevel.bar/events/silvester-party-2/
END:VEVENT
END:VCALENDAR