BEGIN:VCALENDAR
VERSION:2.0
PRODID:-//eventon.com NONSGML v1.0//EN
CALSCALE:GREGORIAN
METHOD:PUBLISH
BEGIN:VEVENT
UID:69e820cc9aa63
DTSTAMP:20260422T011348Z
DTSTART:20231121T180000Z
DTEND:20231121T225000Z
LOCATION:Lost Level Kyffhäuserstraße 39\,  50674 Köln
SUMMARY:"ENDGEGNER" JAZZ LIVE PERFORMANCE
DESCRIPTION:Von der heimischen Spielkonsole schon längst im Konzerthaus an
 gekommen &#8211; Videospielmusik zieht weltweit Zuhörer in seinen Bann. Ge
 rade in älteren Spielen glänzen die Titel dabei oft mit eingehenden Melod
 ien und Verspieltheit. Diese Titel bringt das Quartett &#8222;Endgegner&#82
 20; auf die Bühne &#8211; im Stile einer Jazz- und Rockband. Die großen K
 lassiker[..]\nhttps://lostlevel.bar/events/endgegner-jazz-live-performance/
URL:https://lostlevel.bar/events/endgegner-jazz-live-performance/
END:VEVENT
END:VCALENDAR