BEGIN:VCALENDAR
VERSION:2.0
PRODID:-//eventon.com NONSGML v1.0//EN
CALSCALE:GREGORIAN
METHOD:PUBLISH
BEGIN:VEVENT
UID:69e730bf7fe09
DTSTAMP:20260421T080935Z
DTSTART:20230906T170000Z
DTEND:20230906T215000Z
LOCATION:Lost Level Kyffhäuserstraße 39\,  50674 Köln
SUMMARY:Werwolf Abend - disney special
DESCRIPTION:Wer? Wolf! Es ist Werwolf-Zeit im Lost! Schlüpft in die klassi
 schen und ausgefallenere Rollen des geselligen Spiels in gemütlicher Atmos
 phäre und bei einem leckeren Kaltgetränk. Das wird ein Mordsspaß!\nhttps
 ://lostlevel.bar/events/werwolf-abend-disney-special/
URL:https://lostlevel.bar/events/werwolf-abend-disney-special/
END:VEVENT
END:VCALENDAR