BEGIN:VCALENDAR
VERSION:2.0
PRODID:-//eventon.com NONSGML v1.0//EN
CALSCALE:GREGORIAN
METHOD:PUBLISH
BEGIN:VEVENT
UID:69e70ac25948e
DTSTAMP:20260421T052730Z
DTSTART:20230415
DTEND:20230416
LOCATION:
SUMMARY:Geschlossen
DESCRIPTION:An diesem Tag haben wir leider zu.Wir hoffen du schaust ein and
 eres Mal bei uns vorbei 🙂\nhttps://lostlevel.bar/events/geschlossen-4/
URL:https://lostlevel.bar/events/geschlossen-4/
END:VEVENT
END:VCALENDAR