BEGIN:VCALENDAR
VERSION:2.0
PRODID:-//eventon.com NONSGML v1.0//EN
CALSCALE:GREGORIAN
METHOD:PUBLISH
BEGIN:VEVENT
UID:69e7ba91c416f
DTSTAMP:20260421T175737Z
DTSTART:20221019T170000Z
DTEND:20221019T215900Z
LOCATION:Lost Level Kyffhäuserstraße 39\,  50674 Köln
SUMMARY:SMASH ULTIMATE TURNIER
DESCRIPTION:Wieder Smash Ultimate im &#8222;Lost Level&#8220;.Hosted von de
 n „LeshBoyz (Serdar &amp; Sippo)“.Updates gibt&#8217;s hier: https://tw
 itter.com/leshboyz Alle Informationen für das kommende Smash-Event findet 
 ihr hier bald.Für eine Anmeldung benötigt ihr einen Account auf start.gg\
 ,  also erstellt schon mal einen!\nhttps://lostlevel.bar/events/smash-ultim
 ate-turnier-5/
URL:https://lostlevel.bar/events/smash-ultimate-turnier-5/
END:VEVENT
END:VCALENDAR